BEGIN:VCALENDAR
VERSION:2.0
PRODID:-//Plone.org//NONSGML plone.app.event//EN
X-WR-TIMEZONE:Europe/Madrid
BEGIN:VEVENT
SUMMARY:Actuacions Escola de Música
DTSTART;TZID=Europe/Madrid;VALUE=DATE-TIME:20070421T180000
DTEND;TZID=Europe/Madrid;VALUE=DATE-TIME:20070421T190000
DTSTAMP;VALUE=DATE-TIME:20260424T093555Z
UID:dee7d9f4dfbf7e3f96b4f261efdddca7
CREATED;VALUE=DATE-TIME:20070421T000000Z
LOCATION:Plaça Macià
ORGANIZER:Mostra d'entitats
URL:https://www.canetdemar.cat/document.php?id=3056
END:VEVENT
END:VCALENDAR