BEGIN:VCALENDAR
VERSION:2.0
PRODID:-//Plone.org//NONSGML plone.app.event//EN
X-WR-TIMEZONE:Europe/Madrid
BEGIN:VEVENT
SUMMARY:Cercavila de gegants
DTSTART;TZID=Europe/Madrid;VALUE=DATE-TIME:20070421T170000
DTEND;TZID=Europe/Madrid;VALUE=DATE-TIME:20070421T180000
DTSTAMP;VALUE=DATE-TIME:20260423T133251Z
UID:b160a1ed90a9e70cd2550f5971f2dcd4
CREATED;VALUE=DATE-TIME:20070421T000000Z
LOCATION:Plaça Macià
ORGANIZER:Mostra d'Entitats
DESCRIPTION:De la plaça Macià a la riera Sant Domènec
URL:https://www.canetdemar.cat/document.php?id=3054
END:VEVENT
END:VCALENDAR