BEGIN:VCALENDAR
VERSION:2.0
PRODID:-//Plone.org//NONSGML plone.app.event//EN
X-WR-TIMEZONE:Europe/Madrid
BEGIN:VEVENT
SUMMARY:Xerrada: "Viatge d'anada i tornada"
DTSTART;TZID=Europe/Madrid;VALUE=DATE-TIME:20030508T200000
DTEND;TZID=Europe/Madrid;VALUE=DATE-TIME:20030508T210000
DTSTAMP;VALUE=DATE-TIME:20260425T004128Z
UID:d740c8a255db2432eabf0cca24a5b7b8
CREATED;VALUE=DATE-TIME:20030508T000000Z
URL:https://www.canetdemar.cat/document.php?id=305
END:VEVENT
END:VCALENDAR