BEGIN:VCALENDAR
VERSION:2.0
PRODID:-//Plone.org//NONSGML plone.app.event//EN
X-WR-TIMEZONE:Europe/Madrid
BEGIN:VEVENT
SUMMARY:Teatre al carrer: Bruixes
DTSTART;TZID=Europe/Madrid;VALUE=DATE-TIME:20070422T180000
DTEND;TZID=Europe/Madrid;VALUE=DATE-TIME:20070422T190000
DTSTAMP;VALUE=DATE-TIME:20260424T112016Z
UID:0a45bea2b50b003d04e8cb59f65e9ecb
CREATED;VALUE=DATE-TIME:20070422T000000Z
LOCATION:Plaça Macià
ORGANIZER:Mostra Entitat
DESCRIPTION:a càrrec de la companyia LA TROCA
URL:https://www.canetdemar.cat/document.php?id=3049
END:VEVENT
END:VCALENDAR