BEGIN:VCALENDAR
VERSION:2.0
PRODID:-//Plone.org//NONSGML plone.app.event//EN
X-WR-TIMEZONE:Europe/Madrid
BEGIN:VEVENT
SUMMARY:Tallers relacionats amb el reciclatge
DTSTART;TZID=Europe/Madrid;VALUE=DATE-TIME:20070422T110000
DTEND;TZID=Europe/Madrid;VALUE=DATE-TIME:20070422T120000
DTSTAMP;VALUE=DATE-TIME:20260422T125657Z
UID:6e5846f4863a6d40262bbe5b7c34ce83
CREATED;VALUE=DATE-TIME:20070422T000000Z
LOCATION:Plaça Macià
ORGANIZER:Mostra d'Entitats
URL:https://www.canetdemar.cat/document.php?id=3048
END:VEVENT
END:VCALENDAR