BEGIN:VCALENDAR
VERSION:2.0
PRODID:-//Plone.org//NONSGML plone.app.event//EN
X-WR-TIMEZONE:Europe/Madrid
BEGIN:VEVENT
SUMMARY:Club de lectura
DTSTART;TZID=Europe/Madrid;VALUE=DATE-TIME:20070420T190000
DTEND;TZID=Europe/Madrid;VALUE=DATE-TIME:20070420T200000
DTSTAMP;VALUE=DATE-TIME:20260423T052925Z
UID:2da8aa6ccffa6c7c5ca15c450c013ede
CREATED;VALUE=DATE-TIME:20070420T000000Z
LOCATION:Biblioteca
ORGANIZER:Biblioteca Gual i Pujadas
URL:https://www.canetdemar.cat/document.php?id=3045
END:VEVENT
END:VCALENDAR