BEGIN:VCALENDAR
VERSION:2.0
PRODID:-//Plone.org//NONSGML plone.app.event//EN
X-WR-TIMEZONE:Europe/Madrid
BEGIN:VEVENT
SUMMARY:Hora del conte: Un altre St. Jordi
DTSTART;TZID=Europe/Madrid;VALUE=DATE-TIME:20070421T120000
DTEND;TZID=Europe/Madrid;VALUE=DATE-TIME:20070421T130000
DTSTAMP;VALUE=DATE-TIME:20260424T083737Z
UID:47a20a96beca48ba838c3ea4315a2ccb
CREATED;VALUE=DATE-TIME:20070421T000000Z
LOCATION:Biblioriera
ORGANIZER:Biblioteca Gual i Pujadas
DESCRIPTION:amb la Cia Plum Teatre
URL:https://www.canetdemar.cat/document.php?id=3044
END:VEVENT
END:VCALENDAR