BEGIN:VCALENDAR
VERSION:2.0
PRODID:-//Plone.org//NONSGML plone.app.event//EN
X-WR-TIMEZONE:Europe/Madrid
BEGIN:VEVENT
SUMMARY:Hora del conte
DTSTART;TZID=Europe/Madrid;VALUE=DATE-TIME:20070414T120000
DTEND;TZID=Europe/Madrid;VALUE=DATE-TIME:20070414T130000
DTSTAMP;VALUE=DATE-TIME:20260424T071554Z
UID:87380a619419765c78ddec3ac6086e17
CREATED;VALUE=DATE-TIME:20070414T000000Z
LOCATION:Biblioteca
ORGANIZER:Biblioteca Gual i Pujadas
DESCRIPTION:Els nens expliquen contes
URL:https://www.canetdemar.cat/document.php?id=3043
END:VEVENT
END:VCALENDAR