BEGIN:VCALENDAR
VERSION:2.0
PRODID:-//Plone.org//NONSGML plone.app.event//EN
X-WR-TIMEZONE:Europe/Madrid
BEGIN:VEVENT
SUMMARY:Primavera de les arts: Palau i Fabre,  90 anys
DTSTART;TZID=Europe/Madrid;VALUE=DATE-TIME:20070428T220000
DTEND;TZID=Europe/Madrid;VALUE=DATE-TIME:20070428T230000
DTSTAMP;VALUE=DATE-TIME:20260426T000233Z
UID:1bec1100c2751e61ef69b6d4dd6c4b24
CREATED;VALUE=DATE-TIME:20070428T000000Z
LOCATION:Envelat de Vil·la Flora
ORGANIZER:Àrea de Cultura
COMMENT:Preu: 7 euros
URL:https://www.canetdemar.cat/document.php?id=3041
END:VEVENT
END:VCALENDAR