BEGIN:VCALENDAR
VERSION:2.0
PRODID:-//Plone.org//NONSGML plone.app.event//EN
X-WR-TIMEZONE:Europe/Madrid
BEGIN:VEVENT
SUMMARY:Especial Setmana Santa: Espai de Meditació
DTSTART;TZID=Europe/Madrid;VALUE=DATE-TIME:20070405T200000
DTEND;TZID=Europe/Madrid;VALUE=DATE-TIME:20070405T210000
DTSTAMP;VALUE=DATE-TIME:20260423T083358Z
UID:56fce786a8bcb55bdd50d25d95c414df
CREATED;VALUE=DATE-TIME:20070405T000000Z
LOCATION:CuraSana  C/ Mercat 14  -local-
ORGANIZER:CuraSana
COMMENT:Preu: activitat Gratuïta
URL:https://www.canetdemar.cat/document.php?id=3038
END:VEVENT
END:VCALENDAR