BEGIN:VCALENDAR
VERSION:2.0
PRODID:-//Plone.org//NONSGML plone.app.event//EN
X-WR-TIMEZONE:Europe/Madrid
BEGIN:VEVENT
SUMMARY:Concurs literari Sant Jordi
DTSTART;TZID=Europe/Madrid;VALUE=DATE-TIME:20070416T130000
DTEND;TZID=Europe/Madrid;VALUE=DATE-TIME:20070416T140000
DTSTAMP;VALUE=DATE-TIME:20260423T064934Z
UID:e4ddc7283a5dba83b71665182d78ddf2
CREATED;VALUE=DATE-TIME:20070416T000000Z
LOCATION:Puntdi (Vil·la Flora)
ORGANIZER:Àrea de Joventut
URL:https://www.canetdemar.cat/document.php?id=3030
END:VEVENT
END:VCALENDAR