BEGIN:VCALENDAR
VERSION:2.0
PRODID:-//Plone.org//NONSGML plone.app.event//EN
X-WR-TIMEZONE:Europe/Madrid
BEGIN:VEVENT
SUMMARY:Xerrada sobre el dol
DTSTART;TZID=Europe/Madrid;VALUE=DATE-TIME:20070406T200000
DTEND;TZID=Europe/Madrid;VALUE=DATE-TIME:20070406T210000
DTSTAMP;VALUE=DATE-TIME:20260424T162536Z
UID:0aec66d29a639bc19eaffe708f730332
CREATED;VALUE=DATE-TIME:20070406T000000Z
CATEGORIES:Conferència
LOCATION:Centre CuraSana: C/ Mercat nº 14
ORGANIZER:CuraSana
COMMENT:Preu: activitat gratuïta
DESCRIPTION:Superació del buit que ha deixat la pèrdua. Adaptació a una nova realitat després d'un procés traumàtic
URL:https://www.canetdemar.cat/document.php?id=3027
END:VEVENT
END:VCALENDAR