BEGIN:VCALENDAR
VERSION:2.0
PRODID:-//Plone.org//NONSGML plone.app.event//EN
X-WR-TIMEZONE:Europe/Madrid
BEGIN:VEVENT
SUMMARY:Descoberta dels Rials de Canet: Rial del Sot de l'Aubó - Rial de les Teixoneres
DTSTART;TZID=Europe/Madrid;VALUE=DATE-TIME:20070415T100000
DTEND;TZID=Europe/Madrid;VALUE=DATE-TIME:20070415T110000
DTSTAMP;VALUE=DATE-TIME:20260424T195025Z
UID:375632631b13ac0880684b17c72002f2
CREATED;VALUE=DATE-TIME:20070415T000000Z
LOCATION:Plaça Onze de Setembre
ORGANIZER:Fot-li castanya - ACPO
COMMENT:Preu: No cal inscripció prèvia
DESCRIPTION:Sortida a les 10 del matí des de la plaça Onze de Setembre
URL:https://www.canetdemar.cat/document.php?id=3026
END:VEVENT
END:VCALENDAR