BEGIN:VCALENDAR
VERSION:2.0
PRODID:-//Plone.org//NONSGML plone.app.event//EN
X-WR-TIMEZONE:Europe/Madrid
BEGIN:VEVENT
SUMMARY:Sopar - tertúlia: Els límits de la legítima defensa
DTSTART;TZID=Europe/Madrid;VALUE=DATE-TIME:20070331T220000
DTEND;TZID=Europe/Madrid;VALUE=DATE-TIME:20070331T230000
DTSTAMP;VALUE=DATE-TIME:20260420T103718Z
UID:64e344a8b956dce1e2b42cf24c77aae2
CREATED;VALUE=DATE-TIME:20070331T000000Z
LOCATION:Restaurant El quinto pino
ORGANIZER:Fòrum Odèon - ACPO
DESCRIPTION:Amb Raül Miranda, Fiscal de la Fiscalia d'Arenys de Mar
URL:https://www.canetdemar.cat/document.php?id=3023
END:VEVENT
END:VCALENDAR