BEGIN:VCALENDAR
VERSION:2.0
PRODID:-//Plone.org//NONSGML plone.app.event//EN
X-WR-TIMEZONE:Europe/Madrid
BEGIN:VEVENT
SUMMARY:Cinema alternatiu: Babel
DTSTART;TZID=Europe/Madrid;VALUE=DATE-TIME:20070330T220000
DTEND;TZID=Europe/Madrid;VALUE=DATE-TIME:20070330T230000
DTSTAMP;VALUE=DATE-TIME:20260420T120231Z
UID:9835cb863ecb3509d5b013e3374877e0
CREATED;VALUE=DATE-TIME:20070330T000000Z
LOCATION:Envelat de Vil·la Flora
ORGANIZER:
ACPO

URL:https://www.canetdemar.cat/document.php?id=3022
END:VEVENT
END:VCALENDAR