BEGIN:VCALENDAR
VERSION:2.0
PRODID:-//Plone.org//NONSGML plone.app.event//EN
X-WR-TIMEZONE:Europe/Madrid
BEGIN:VEVENT
SUMMARY:Tallers d'iniciació i perfeccionament de gralla
DTSTART;TZID=Europe/Madrid;VALUE=DATE-TIME:20070414T093000
DTEND;TZID=Europe/Madrid;VALUE=DATE-TIME:20070414T103000
DTSTAMP;VALUE=DATE-TIME:20260423T133503Z
UID:7bb63d8705d91d4f7fa8d65a7c41f4d3
CREATED;VALUE=DATE-TIME:20070414T000000Z
LOCATION:Vil·la Flora
ORGANIZER:Àrea de Joventut
DESCRIPTION:data inici 27 de gener. Matrícula oberta
URL:https://www.canetdemar.cat/document.php?id=3019
END:VEVENT
END:VCALENDAR