BEGIN:VCALENDAR
VERSION:2.0
PRODID:-//Plone.org//NONSGML plone.app.event//EN
X-WR-TIMEZONE:Europe/Madrid
BEGIN:VEVENT
SUMMARY:Tarda de ball a l'envelat
DTSTART;TZID=Europe/Madrid;VALUE=DATE-TIME:20070429T190000
DTEND;TZID=Europe/Madrid;VALUE=DATE-TIME:20070429T200000
DTSTAMP;VALUE=DATE-TIME:20260422T183055Z
UID:2105a23c28a19f9d765f982bd3f3d126
CREATED;VALUE=DATE-TIME:20070429T000000Z
LOCATION:Envelat de Vil·la Flora
ORGANIZER:Amics del ball
COMMENT:Preu: 3 euros
URL:https://www.canetdemar.cat/document.php?id=3016
END:VEVENT
END:VCALENDAR