BEGIN:VCALENDAR
VERSION:2.0
PRODID:-//Plone.org//NONSGML plone.app.event//EN
X-WR-TIMEZONE:Europe/Madrid
BEGIN:VEVENT
SUMMARY:Curs Manipulador d'aliments
DTSTART;TZID=Europe/Madrid;VALUE=DATE-TIME:20070414T100000
DTEND;TZID=Europe/Madrid;VALUE=DATE-TIME:20070414T110000
DTSTAMP;VALUE=DATE-TIME:20260423T133705Z
UID:e0dff288b9e06b130550bc2363fa8ccd
CREATED;VALUE=DATE-TIME:20070414T000000Z
LOCATION:Vil·la Flora
ORGANIZER:Ajuntament de Canet de Mar i Generalitat de Catalunya
COMMENT:Preu: 10 euros
URL:https://www.canetdemar.cat/document.php?id=3007
END:VEVENT
END:VCALENDAR