BEGIN:VCALENDAR
VERSION:2.0
PRODID:-//Plone.org//NONSGML plone.app.event//EN
X-WR-TIMEZONE:Europe/Madrid
BEGIN:VEVENT
SUMMARY:Matrícula 2007 / 2008 de l'Escola de Música
DTSTART;TZID=Europe/Madrid;VALUE=DATE-TIME:20070417T170000
DTEND;TZID=Europe/Madrid;VALUE=DATE-TIME:20070417T180000
DTSTAMP;VALUE=DATE-TIME:20260422T164757Z
UID:3c3db4ee0b2bfb15b2d7ddb09dcc3c21
CREATED;VALUE=DATE-TIME:20070417T000000Z
LOCATION:Escola de música
ORGANIZER:Escola de música de Canet
DESCRIPTION:Del 17 al 27 d'abril
URL:https://www.canetdemar.cat/document.php?id=3005
END:VEVENT
END:VCALENDAR