BEGIN:VCALENDAR
VERSION:2.0
PRODID:-//Plone.org//NONSGML plone.app.event//EN
X-WR-TIMEZONE:Europe/Madrid
BEGIN:VEVENT
SUMMARY:Taller de circ (malabars, pallassos...)
DTSTART;TZID=Europe/Madrid;VALUE=DATE-TIME:20070402T110000
DTEND;TZID=Europe/Madrid;VALUE=DATE-TIME:20070402T120000
DTSTAMP;VALUE=DATE-TIME:20260423T134235Z
UID:baa002b01162528f2f21e6f7d5db767a
CREATED;VALUE=DATE-TIME:20070402T000000Z
LOCATION:Envelat de Vil·la Flora
ORGANIZER:Àrea de Joventut
COMMENT:Preu: 25 euros
Durada: D'11.00 a 12.30 hores
DESCRIPTION:Àrea de Joventut
URL:https://www.canetdemar.cat/document.php?id=3004
END:VEVENT
END:VCALENDAR