BEGIN:VCALENDAR
VERSION:2.0
PRODID:-//Plone.org//NONSGML plone.app.event//EN
X-WR-TIMEZONE:Europe/Madrid
BEGIN:VEVENT
SUMMARY:Conferència: De les antigues cançons d'ofici a cançons per a la vida diària
DTSTART;TZID=Europe/Madrid;VALUE=DATE-TIME:20070416T190000
DTEND;TZID=Europe/Madrid;VALUE=DATE-TIME:20070416T200000
DTSTAMP;VALUE=DATE-TIME:20260423T030448Z
UID:98c45914a0a36199b0494fe1e36b0a6f
CREATED;VALUE=DATE-TIME:20070416T000000Z
LOCATION:Casa museu Lluís Domènech i Montaner
ORGANIZER:Àrea de Benestar Social i Sàlvia, associació de dones
URL:https://www.canetdemar.cat/document.php?id=3002
END:VEVENT
END:VCALENDAR