BEGIN:VCALENDAR
VERSION:2.0
PRODID:-//Plone.org//NONSGML plone.app.event//EN
X-WR-TIMEZONE:Europe/Madrid
BEGIN:VEVENT
SUMMARY:Portes obertes a la Llar d'infants El Palauet
DTSTART;TZID=Europe/Madrid;VALUE=DATE-TIME:20070415T110000
DTEND;TZID=Europe/Madrid;VALUE=DATE-TIME:20070415T120000
DTSTAMP;VALUE=DATE-TIME:20260424T185127Z
UID:55cacddc842be1608010374963096213
CREATED;VALUE=DATE-TIME:20070415T000000Z
LOCATION:El Palauet
COMMENT:Durada: D'11 a 13 hores
URL:https://www.canetdemar.cat/document.php?id=3001
END:VEVENT
END:VCALENDAR