BEGIN:VCALENDAR
VERSION:2.0
PRODID:-//Plone.org//NONSGML plone.app.event//EN
X-WR-TIMEZONE:Europe/Madrid
BEGIN:VEVENT
SUMMARY:Teatre: Vaig ser ric una vegada
DTSTART;TZID=Europe/Madrid;VALUE=DATE-TIME:20070401T181500
DTEND;TZID=Europe/Madrid;VALUE=DATE-TIME:20070401T191500
DTSTAMP;VALUE=DATE-TIME:20260423T015252Z
UID:bc6961c3c22845cb06a34eac0caab911
CREATED;VALUE=DATE-TIME:20070401T000000Z
LOCATION:Centre Parroquial
ORGANIZER:Centre Parroquial
DESCRIPTION:XXXIII Concurs de teatre Pedracastell
URL:https://www.canetdemar.cat/document.php?id=2998
END:VEVENT
END:VCALENDAR