BEGIN:VCALENDAR
VERSION:2.0
PRODID:-//Plone.org//NONSGML plone.app.event//EN
X-WR-TIMEZONE:Europe/Madrid
BEGIN:VEVENT
SUMMARY:Tarda de ball a l'envelat
DTSTART;TZID=Europe/Madrid;VALUE=DATE-TIME:20070401T190000
DTEND;TZID=Europe/Madrid;VALUE=DATE-TIME:20070401T200000
DTSTAMP;VALUE=DATE-TIME:20260426T014500Z
UID:ac966950274cb81d77407ecda67d2bc7
CREATED;VALUE=DATE-TIME:20070401T000000Z
LOCATION:Envelat de Vil·la Flora
ORGANIZER:Amics del ball
COMMENT:Preu: 3 euros
URL:https://www.canetdemar.cat/document.php?id=2997
END:VEVENT
END:VCALENDAR