BEGIN:VCALENDAR
VERSION:2.0
PRODID:-//Plone.org//NONSGML plone.app.event//EN
X-WR-TIMEZONE:Europe/Madrid
BEGIN:VEVENT
SUMMARY:Torneig de petanca
DTSTART;TZID=Europe/Madrid;VALUE=DATE-TIME:20070324T160000
DTEND;TZID=Europe/Madrid;VALUE=DATE-TIME:20070324T170000
DTSTAMP;VALUE=DATE-TIME:20260420T085816Z
UID:87d0caeb52c8b6847722e2d53464f102
CREATED;VALUE=DATE-TIME:20070324T000000Z
CATEGORIES:Esports
LOCATION:Pistes Club Botxes (al costat del Tanatori)
ORGANIZER:Club Botxes Canet
COMMENT:Preu: 7 &euro; per equip
DESCRIPTION:Obert a tothom
URL:https://www.canetdemar.cat/document.php?id=2996
END:VEVENT
END:VCALENDAR