BEGIN:VCALENDAR
VERSION:2.0
PRODID:-//Plone.org//NONSGML plone.app.event//EN
X-WR-TIMEZONE:Europe/Madrid
BEGIN:VEVENT
SUMMARY:Portes obertes a l'IES Lluís Domènech
DTSTART;TZID=Europe/Madrid;VALUE=DATE-TIME:20070325T120000
DTEND;TZID=Europe/Madrid;VALUE=DATE-TIME:20070325T130000
DTSTAMP;VALUE=DATE-TIME:20260420T085746Z
UID:e1ce7de2a79303e0da6ce60ffed64526
CREATED;VALUE=DATE-TIME:20070325T000000Z
COMMENT:Durada: De 12.00 a 14.00 hores
URL:https://www.canetdemar.cat/document.php?id=2993
END:VEVENT
END:VCALENDAR