BEGIN:VCALENDAR
VERSION:2.0
PRODID:-//Plone.org//NONSGML plone.app.event//EN
X-WR-TIMEZONE:Europe/Madrid
BEGIN:VEVENT
SUMMARY:Portes obertes al CEIP Misericòrdia
DTSTART;TZID=Europe/Madrid;VALUE=DATE-TIME:20070325T110000
DTEND;TZID=Europe/Madrid;VALUE=DATE-TIME:20070325T120000
DTSTAMP;VALUE=DATE-TIME:20260420T103744Z
UID:868a9d847a4b117900d2dc50811d4805
CREATED;VALUE=DATE-TIME:20070325T000000Z
COMMENT:Durada: d'11.00 a 13.00 hores del matí
URL:https://www.canetdemar.cat/document.php?id=2992
END:VEVENT
END:VCALENDAR