BEGIN:VCALENDAR
VERSION:2.0
PRODID:-//Plone.org//NONSGML plone.app.event//EN
X-WR-TIMEZONE:Europe/Madrid
BEGIN:VEVENT
SUMMARY:Presentació de la campanya Pinzellades de Canet
DTSTART;TZID=Europe/Madrid;VALUE=DATE-TIME:20070325T110000
DTEND;TZID=Europe/Madrid;VALUE=DATE-TIME:20070325T120000
DTSTAMP;VALUE=DATE-TIME:20260420T071822Z
UID:423f32f30216ae21e65b5696e96b98f6
CREATED;VALUE=DATE-TIME:20070325T000000Z
LOCATION:Casa museu Domènech i Montaner
URL:https://www.canetdemar.cat/document.php?id=2991
END:VEVENT
END:VCALENDAR