BEGIN:VCALENDAR
VERSION:2.0
PRODID:-//Plone.org//NONSGML plone.app.event//EN
X-WR-TIMEZONE:Europe/Madrid
BEGIN:VEVENT
SUMMARY:Torneig internacional de botxes
DTSTART;TZID=Europe/Madrid;VALUE=DATE-TIME:20070407T090000
DTEND;TZID=Europe/Madrid;VALUE=DATE-TIME:20070407T100000
DTSTAMP;VALUE=DATE-TIME:20260421T114802Z
UID:0ad54c36f8b07ac64186019f0930c359
CREATED;VALUE=DATE-TIME:20070407T000000Z
CATEGORIES:Esports
LOCATION:Pistes Club Botxes  i Pistes d'atletisme
COMMENT:Preu: 30 &euro; / equip
DESCRIPTION:França-Itàlia-Suïssa-Mònaco-Espanya
URL:https://www.canetdemar.cat/document.php?id=2981
END:VEVENT
END:VCALENDAR