BEGIN:VCALENDAR
VERSION:2.0
PRODID:-//Plone.org//NONSGML plone.app.event//EN
X-WR-TIMEZONE:Europe/Madrid
BEGIN:VEVENT
SUMMARY:Torneig de petanca
DTSTART;TZID=Europe/Madrid;VALUE=DATE-TIME:20070310T160000
DTEND;TZID=Europe/Madrid;VALUE=DATE-TIME:20070310T170000
DTSTAMP;VALUE=DATE-TIME:20260420T071901Z
UID:10069ba05071914973a647088d8bac74
CREATED;VALUE=DATE-TIME:20070310T000000Z
CATEGORIES:Esports
LOCATION:CLUB BOTXES CANET DE MAR
ORGANIZER:Club Botxes Canet
COMMENT:Preu: 7 &euro; per equip
DESCRIPTION:A les instal.lacions del Club Botxes Canet
URL:https://www.canetdemar.cat/document.php?id=2978
END:VEVENT
END:VCALENDAR