BEGIN:VCALENDAR
VERSION:2.0
PRODID:-//Plone.org//NONSGML plone.app.event//EN
X-WR-TIMEZONE:Europe/Madrid
BEGIN:VEVENT
SUMMARY:Nit de teatre: Grease, el musical
DTSTART;TZID=Europe/Madrid;VALUE=DATE-TIME:20070321T193000
DTEND;TZID=Europe/Madrid;VALUE=DATE-TIME:20070321T203000
DTSTAMP;VALUE=DATE-TIME:20260420T071945Z
UID:814827dff67f0c8dbe7c5a57547e144e
CREATED;VALUE=DATE-TIME:20070321T000000Z
LOCATION:Sortida des de la parada de bus de Comediants
ORGANIZER:Àrea de Joventut
COMMENT:Preu: 34 euros (entrada + autocar)
DESCRIPTION:al Teatre Victòria
URL:https://www.canetdemar.cat/document.php?id=2970
END:VEVENT
END:VCALENDAR