BEGIN:VCALENDAR
VERSION:2.0
PRODID:-//Plone.org//NONSGML plone.app.event//EN
X-WR-TIMEZONE:Europe/Madrid
BEGIN:VEVENT
SUMMARY:Mostra d'energies renovables
DTSTART;TZID=Europe/Madrid;VALUE=DATE-TIME:20070312T100000
DTEND;TZID=Europe/Madrid;VALUE=DATE-TIME:20070312T110000
DTSTAMP;VALUE=DATE-TIME:20260420T091310Z
UID:82b763e1e4eeb6d24cf1c15a54395ce1
CREATED;VALUE=DATE-TIME:20070312T000000Z
LOCATION:Riera Sant Domènec
ORGANIZER:Àrea de Medi Ambient i Diputació de Barcelona
DESCRIPTION:Del 5 al 18 de març
URL:https://www.canetdemar.cat/document.php?id=2969
END:VEVENT
END:VCALENDAR