BEGIN:VCALENDAR
VERSION:2.0
PRODID:-//Plone.org//NONSGML plone.app.event//EN
X-WR-TIMEZONE:Europe/Madrid
BEGIN:VEVENT
SUMMARY:Exposició de pintura a l'Estudi Tenas
DTSTART;TZID=Europe/Madrid;VALUE=DATE-TIME:20070310T000000
DTEND;TZID=Europe/Madrid;VALUE=DATE-TIME:20070310T010000
DTSTAMP;VALUE=DATE-TIME:20260420T054217Z
UID:df87ac52bc5028f58a86527fcf4f2cf3
CREATED;VALUE=DATE-TIME:20070310T000000Z
LOCATION:carrer Bonaire, 7
ORGANIZER:Estudi Tenas 1694
URL:https://www.canetdemar.cat/document.php?id=2968
END:VEVENT
END:VCALENDAR