BEGIN:VCALENDAR
VERSION:2.0
PRODID:-//Plone.org//NONSGML plone.app.event//EN
X-WR-TIMEZONE:Europe/Madrid
BEGIN:VEVENT
SUMMARY:La música dels llibres
DTSTART;TZID=Europe/Madrid;VALUE=DATE-TIME:20070330T200000
DTEND;TZID=Europe/Madrid;VALUE=DATE-TIME:20070330T210000
DTSTAMP;VALUE=DATE-TIME:20260420T085901Z
UID:e420e3bd8b89343478325aa948752817
CREATED;VALUE=DATE-TIME:20070330T000000Z
LOCATION:Biblioteca
ORGANIZER:Escola de Música i Biblioteca P.Gual i Pujadas
URL:https://www.canetdemar.cat/document.php?id=2967
END:VEVENT
END:VCALENDAR