BEGIN:VCALENDAR
VERSION:2.0
PRODID:-//Plone.org//NONSGML plone.app.event//EN
X-WR-TIMEZONE:Europe/Madrid
BEGIN:VEVENT
SUMMARY:Exposició: Fer arxiu: bocins d'història
DTSTART;TZID=Europe/Madrid;VALUE=DATE-TIME:20070327T190000
DTEND;TZID=Europe/Madrid;VALUE=DATE-TIME:20070327T200000
DTSTAMP;VALUE=DATE-TIME:20260420T133744Z
UID:95a4a4b77739562c12a435e069968687
CREATED;VALUE=DATE-TIME:20070327T000000Z
LOCATION:Casa museu Domènech i Montaner
ORGANIZER:Arxiu Municipal
DESCRIPTION:A partir del 27 de març
URL:https://www.canetdemar.cat/document.php?id=2966
END:VEVENT
END:VCALENDAR