BEGIN:VCALENDAR
VERSION:2.0
PRODID:-//Plone.org//NONSGML plone.app.event//EN
X-WR-TIMEZONE:Europe/Madrid
BEGIN:VEVENT
SUMMARY:Conferència: Com fer de cuidadors i cuidar-nos al mateix temps
DTSTART;TZID=Europe/Madrid;VALUE=DATE-TIME:20070326T190000
DTEND;TZID=Europe/Madrid;VALUE=DATE-TIME:20070326T200000
DTSTAMP;VALUE=DATE-TIME:20260420T071752Z
UID:48faea455334bd4919a719d1fb7fbbf2
CREATED;VALUE=DATE-TIME:20070326T000000Z
LOCATION:Casa museu Domènech i Montaner
ORGANIZER:Sàlvia, associació de dones i Àrea de Benestar Social
COMMENT:Preu: entrada gratuïta
URL:https://www.canetdemar.cat/document.php?id=2965
END:VEVENT
END:VCALENDAR