BEGIN:VCALENDAR
VERSION:2.0
PRODID:-//Plone.org//NONSGML plone.app.event//EN
X-WR-TIMEZONE:Europe/Madrid
BEGIN:VEVENT
SUMMARY:Teatre: Fuita
DTSTART;TZID=Europe/Madrid;VALUE=DATE-TIME:20070325T181500
DTEND;TZID=Europe/Madrid;VALUE=DATE-TIME:20070325T191500
DTSTAMP;VALUE=DATE-TIME:20260420T071807Z
UID:7d875112947d3212d62e56ccd75f1c1a
CREATED;VALUE=DATE-TIME:20070325T000000Z
LOCATION:Centre parroquial
ORGANIZER:Centre parroquial
DESCRIPTION:XXXIII concurs de teatre Pedracastell
URL:https://www.canetdemar.cat/document.php?id=2963
END:VEVENT
END:VCALENDAR