BEGIN:VCALENDAR
VERSION:2.0
PRODID:-//Plone.org//NONSGML plone.app.event//EN
X-WR-TIMEZONE:Europe/Madrid
BEGIN:VEVENT
SUMMARY:Excursió a Cardona
DTSTART;TZID=Europe/Madrid;VALUE=DATE-TIME:20070325T083000
DTEND;TZID=Europe/Madrid;VALUE=DATE-TIME:20070325T093000
DTSTAMP;VALUE=DATE-TIME:20260420T120300Z
UID:bd889b9e829f21debf6581f5e325b91e
CREATED;VALUE=DATE-TIME:20070325T000000Z
ORGANIZER:Sàlvia, associació de dones
COMMENT:Preu: sòcies i familiars, 23 euros; no socis/es 28 euros (tot inclòs)
Durada: 1 dia
URL:https://www.canetdemar.cat/document.php?id=2962
END:VEVENT
END:VCALENDAR