BEGIN:VCALENDAR
VERSION:2.0
PRODID:-//Plone.org//NONSGML plone.app.event//EN
X-WR-TIMEZONE:Europe/Madrid
BEGIN:VEVENT
SUMMARY:Concert dels alumnes que han participat al curs sobre W.A. Mozart
DTSTART;TZID=Europe/Madrid;VALUE=DATE-TIME:20070324T190000
DTEND;TZID=Europe/Madrid;VALUE=DATE-TIME:20070324T200000
DTSTAMP;VALUE=DATE-TIME:20260420T071737Z
UID:c781ad8439487c2d5d1e734eadf3e805
CREATED;VALUE=DATE-TIME:20070324T000000Z
LOCATION:Escola de Música de Canet
ORGANIZER:Escola de Música de Canet
URL:https://www.canetdemar.cat/document.php?id=2941
END:VEVENT
END:VCALENDAR