BEGIN:VCALENDAR
VERSION:2.0
PRODID:-//Plone.org//NONSGML plone.app.event//EN
X-WR-TIMEZONE:Europe/Madrid
BEGIN:VEVENT
SUMMARY:Presentació d'Òscar Figuerola, candidat a l'Alcaldia de Canet
DTSTART;TZID=Europe/Madrid;VALUE=DATE-TIME:20070326T201500
DTEND;TZID=Europe/Madrid;VALUE=DATE-TIME:20070326T211500
DTSTAMP;VALUE=DATE-TIME:20260420T103803Z
UID:179ade2cc079d838b26a9048acfaafd8
CREATED;VALUE=DATE-TIME:20070326T000000Z
LOCATION:Aula Magna Escola Universitària de Teixits de Punt
ORGANIZER:Esquerra Republicana de Catalunya
DESCRIPTION:CANVI DE DATA
URL:https://www.canetdemar.cat/document.php?id=2940
END:VEVENT
END:VCALENDAR