BEGIN:VCALENDAR
VERSION:2.0
PRODID:-//Plone.org//NONSGML plone.app.event//EN
X-WR-TIMEZONE:Europe/Madrid
BEGIN:VEVENT
SUMMARY:L'hora del conte a càrrec del grup Horitzó (fundació Marpi i fundació Vivint)
DTSTART;TZID=Europe/Madrid;VALUE=DATE-TIME:20070324T120000
DTEND;TZID=Europe/Madrid;VALUE=DATE-TIME:20070324T130000
DTSTAMP;VALUE=DATE-TIME:20260420T071915Z
UID:fe536873d17e9a740dafd652a4757fcb
CREATED;VALUE=DATE-TIME:20070324T000000Z
LOCATION:Biblioteca
ORGANIZER:Biblioteca P.Gual i Pujadas
URL:https://www.canetdemar.cat/document.php?id=2939
END:VEVENT
END:VCALENDAR