BEGIN:VCALENDAR
VERSION:2.0
PRODID:-//Plone.org//NONSGML plone.app.event//EN
X-WR-TIMEZONE:Europe/Madrid
BEGIN:VEVENT
SUMMARY:Festival pro-Odèon
DTSTART;TZID=Europe/Madrid;VALUE=DATE-TIME:20070318T180000
DTEND;TZID=Europe/Madrid;VALUE=DATE-TIME:20070318T190000
DTSTAMP;VALUE=DATE-TIME:20260420T151018Z
UID:505ef2bbbffea576362aec6af0b0fcf4
CREATED;VALUE=DATE-TIME:20070318T000000Z
LOCATION:Envelat de Vil·la Flora
ORGANIZER:Totes les entitats culturals de Canet i l'Àrea de Cultura
COMMENT:Preu: Entrada gratuïta
URL:https://www.canetdemar.cat/document.php?id=2935
END:VEVENT
END:VCALENDAR