BEGIN:VCALENDAR
VERSION:2.0
PRODID:-//Plone.org//NONSGML plone.app.event//EN
X-WR-TIMEZONE:Europe/Madrid
BEGIN:VEVENT
SUMMARY:Exposició canina
DTSTART;TZID=Europe/Madrid;VALUE=DATE-TIME:20070318T100000
DTEND;TZID=Europe/Madrid;VALUE=DATE-TIME:20070318T110000
DTSTAMP;VALUE=DATE-TIME:20260420T085831Z
UID:3dd8283fc9177dba1da7045b5858c010
CREATED;VALUE=DATE-TIME:20070318T000000Z
LOCATION:Jardins de Vil.la Flora
ORGANIZER:Reial Societat Canina de Catalunya i Àrea de Sanitat
URL:https://www.canetdemar.cat/document.php?id=2934
END:VEVENT
END:VCALENDAR