BEGIN:VCALENDAR
VERSION:2.0
PRODID:-//Plone.org//NONSGML plone.app.event//EN
X-WR-TIMEZONE:Europe/Madrid
BEGIN:VEVENT
SUMMARY:Sopar i ball amb el conjunt Màgics
DTSTART;TZID=Europe/Madrid;VALUE=DATE-TIME:20070317T213000
DTEND;TZID=Europe/Madrid;VALUE=DATE-TIME:20070317T223000
DTSTAMP;VALUE=DATE-TIME:20260420T120200Z
UID:0e414de87c773f5dbb5f01f1a3b0c87f
CREATED;VALUE=DATE-TIME:20070317T000000Z
LOCATION:Envelat de Vil·la Flora
ORGANIZER:Amics del ball
COMMENT:Preu: socis 8 euros; no socis 12 euros
URL:https://www.canetdemar.cat/document.php?id=2933
END:VEVENT
END:VCALENDAR