BEGIN:VCALENDAR
VERSION:2.0
PRODID:-//Plone.org//NONSGML plone.app.event//EN
X-WR-TIMEZONE:Europe/Madrid
BEGIN:VEVENT
SUMMARY:LAMINA TEATRE presenta "Jamais seul"
DTSTART;TZID=Europe/Madrid;VALUE=DATE-TIME:20260530T200000
DTEND;TZID=Europe/Madrid;VALUE=DATE-TIME:20260530T210000
DTSTAMP;VALUE=DATE-TIME:20260426T005031Z
UID:569096cc42494ddb1b0e9e466007de3c
CREATED;VALUE=DATE-TIME:20260530T000000Z
CATEGORIES:Teatre
LOCATION:Sala Odèon del TMC - Plaça 1 d'octubre
COMMENT:Preu: 10&euro; (8&euro; socis ACPO)
URL:https://www.canetdemar.cat/document.php?id=29327
END:VEVENT
END:VCALENDAR