BEGIN:VCALENDAR
VERSION:2.0
PRODID:-//Plone.org//NONSGML plone.app.event//EN
X-WR-TIMEZONE:Europe/Madrid
BEGIN:VEVENT
SUMMARY:Concert Orquestra de Cambra ACPO de Canet
DTSTART;TZID=Europe/Madrid;VALUE=DATE-TIME:20260502T190000
DTEND;TZID=Europe/Madrid;VALUE=DATE-TIME:20260502T200000
DTSTAMP;VALUE=DATE-TIME:20260426T024105Z
UID:bf5ac6a4b99697cd031a0de5f8c82249
CREATED;VALUE=DATE-TIME:20260502T000000Z
CATEGORIES:Música
LOCATION:Sala Odèon del TMC - Plaça 1 d'octubre
COMMENT:Preu: 10&euro; (8&euro; socis ACPO)
DESCRIPTION:Les Indies galants de Jean-Philippe Rameau (1683 - 1764)
URL:https://www.canetdemar.cat/document.php?id=29326
END:VEVENT
END:VCALENDAR