BEGIN:VCALENDAR
VERSION:2.0
PRODID:-//Plone.org//NONSGML plone.app.event//EN
X-WR-TIMEZONE:Europe/Madrid
BEGIN:VEVENT
SUMMARY:Avui llegim! amb l'Imma de la Biblioteca
DTSTART;TZID=Europe/Madrid;VALUE=DATE-TIME:20260520T183000
DTEND;TZID=Europe/Madrid;VALUE=DATE-TIME:20260520T193000
DTSTAMP;VALUE=DATE-TIME:20260425T200257Z
UID:9b8ef241ceb3db145d7e1fee2b81704a
CREATED;VALUE=DATE-TIME:20260520T000000Z
CATEGORIES:Infantils
LOCATION:Biblioteca P. Gual i Pujadas
ORGANIZER:Biblioteca P. Gual i Pujadas
COMMENT:Preu: Gratuït
DESCRIPTION:Un dicionari amb història d'Oliver Jeffers
URL:https://www.canetdemar.cat/document.php?id=29320
END:VEVENT
END:VCALENDAR