BEGIN:VCALENDAR
VERSION:2.0
PRODID:-//Plone.org//NONSGML plone.app.event//EN
X-WR-TIMEZONE:Europe/Madrid
BEGIN:VEVENT
SUMMARY:Parlem amb... Marta Orriols
DTSTART;TZID=Europe/Madrid;VALUE=DATE-TIME:20260515T183000
DTEND;TZID=Europe/Madrid;VALUE=DATE-TIME:20260515T193000
DTSTAMP;VALUE=DATE-TIME:20260424T192048Z
UID:de21261f667dab3665a655180e6bf22a
CREATED;VALUE=DATE-TIME:20260515T000000Z
LOCATION:Biblioteca P. Gual i Pujadas
ORGANIZER:Biblioteca P. Gual i Pujadas
COMMENT:Preu: Gratuït
DESCRIPTION:Aprendre a parlar amb les plantes
URL:https://www.canetdemar.cat/document.php?id=29317
END:VEVENT
END:VCALENDAR