BEGIN:VCALENDAR
VERSION:2.0
PRODID:-//Plone.org//NONSGML plone.app.event//EN
X-WR-TIMEZONE:Europe/Madrid
BEGIN:VEVENT
SUMMARY:Dia Internacional de la dansa
DTSTART;TZID=Europe/Madrid;VALUE=DATE-TIME:20260426T120000
DTEND;TZID=Europe/Madrid;VALUE=DATE-TIME:20260426T130000
DTSTAMP;VALUE=DATE-TIME:20260426T053700Z
UID:97ec80733adcf752f8c99af5d794babe
CREATED;VALUE=DATE-TIME:20260426T000000Z
CATEGORIES:Dansa
LOCATION:Plaça Universitat
ORGANIZER:Sisè Sentit, Ballet Juvenil Ensemble
DESCRIPTION:Activitats 2026 - CANET DE MAR
URL:https://www.canetdemar.cat/document.php?id=29316
END:VEVENT
END:VCALENDAR