BEGIN:VCALENDAR
VERSION:2.0
PRODID:-//Plone.org//NONSGML plone.app.event//EN
X-WR-TIMEZONE:Europe/Madrid
BEGIN:VEVENT
SUMMARY:Fira d'artesans
DTSTART;TZID=Europe/Madrid;VALUE=DATE-TIME:20070317T100000
DTEND;TZID=Europe/Madrid;VALUE=DATE-TIME:20070317T110000
DTSTAMP;VALUE=DATE-TIME:20260420T120311Z
UID:752700410453000ac5949e12b2ed57bb
CREATED;VALUE=DATE-TIME:20070317T000000Z
LOCATION:Riera Sant Domènec
ORGANIZER:Àrees de Comerç i Cultura
URL:https://www.canetdemar.cat/document.php?id=2931
END:VEVENT
END:VCALENDAR